BEGIN:VCALENDAR
VERSION:2.0
PRODID:-//Synchro Australia - ECPv4.6.10.1//NONSGML v1.0//EN
CALSCALE:GREGORIAN
METHOD:PUBLISH
X-WR-CALNAME:Synchro Australia
X-ORIGINAL-URL:http://www.synchro.org.au
X-WR-CALDESC:Events for Synchro Australia
BEGIN:VEVENT
DTSTART;VALUE=DATE:20180303
DTEND;VALUE=DATE:20180304
DTSTAMP:20180226T171003
CREATED:20171008T081335Z
LAST-MODIFIED:20180104T044504Z
UID:999-1520035200-1520121599@www.synchro.org.au
SUMMARY:VIC State Championships
DESCRIPTION:Schedule:\nWarm up: 11.30am\nCompetition starts 1.00pm.\n
URL:http://www.synchro.org.au/event/vic-state-championship/
LOCATION:30 Aughtie Drive Albert Park\, Melbourne\, VIC\, 3206\, Australia
CATEGORIES:States
END:VEVENT
BEGIN:VEVENT
DTSTART;VALUE=DATE:20180310
DTEND;VALUE=DATE:20180312
DTSTAMP:20180226T171003
CREATED:20180128T120233Z
LAST-MODIFIED:20180128T121657Z
UID:1888-1520640000-1520812799@www.synchro.org.au
SUMMARY:WA State Championship
DESCRIPTION:Location: HBF Stadium \n
URL:http://www.synchro.org.au/event/wa-state-championship/
LOCATION:VIC
CATEGORIES:National Championships
END:VEVENT
BEGIN:VEVENT
DTSTART;TZID=Australia/Melbourne:20180310T080000
DTEND;TZID=Australia/Melbourne:20180311T170000
DTSTAMP:20180226T171003
CREATED:20171008T080212Z
LAST-MODIFIED:20171008T084950Z
UID:996-1520668800-1520787600@www.synchro.org.au
SUMMARY:QLD State Championships
DESCRIPTION:
URL:http://www.synchro.org.au/event/qld-state-championships/
LOCATION:Old Cleveland Rd & Tilley Rd\, Chandler\, Brisbane\, QLD\, 4155\, Australia
CATEGORIES:States
END:VEVENT
BEGIN:VEVENT
DTSTART;TZID=Australia/Melbourne:20180310T120000
DTEND;TZID=Australia/Melbourne:20180310T180000
DTSTAMP:20180226T171003
CREATED:20171008T084827Z
LAST-MODIFIED:20171008T084959Z
UID:1010-1520683200-1520704800@www.synchro.org.au
SUMMARY:NSW State Championships
DESCRIPTION:
URL:http://www.synchro.org.au/event/nsw-state-championships/
LOCATION:North Sydney\, NSW\, Australia
CATEGORIES:States
END:VEVENT
BEGIN:VEVENT
DTSTART;VALUE=DATE:20180329
DTEND;VALUE=DATE:20180403
DTSTAMP:20180226T171003
CREATED:20170902T094133Z
LAST-MODIFIED:20180202T052430Z
UID:853-1522281600-1522713599@www.synchro.org.au
SUMMARY:2018 Hancock Prospecting Synchronised Swimming Australia Open and Age Group Championships
DESCRIPTION:More information:\nBulletin 1\nBulletin 2\n \n\n\nPre – Registrations – Register Here\nClub Nominations Registrations – Register Here \n\nMerchandise – Purchase Here (Deadline 15th January 2018)\n\n
URL:http://www.synchro.org.au/event/synchronised-swimming-australia-national-age-open-championships/
LOCATION:Old Cleveland Rd & Tilley Rd\, Chandler\, Brisbane\, QLD\, 4155\, Australia
CATEGORIES:National Championships
END:VEVENT
BEGIN:VEVENT
DTSTART;VALUE=DATE:20180707
DTEND;VALUE=DATE:20180712
DTSTAMP:20180226T171003
CREATED:20180221T092819Z
LAST-MODIFIED:20180221T092834Z
UID:1934-1530921600-1531353599@www.synchro.org.au
SUMMARY:ADVANCED COACHING CLINIC\, NZ
DESCRIPTION:ADVANCED COACHING CLINIC – INVERCARGILL\, NZ  – 7th to 11th July 2018 \n\n\nNew Zealand is a hosting an advancing coaching clinic in Invercargill\, NZ. The exact dates are to be confirmed. The presenter is the very talented Andrea Fuentes. \nPlease register your interest via email to your state coaching coordinator and the event coordinator Luciana lucianagarciag@gmail.com\n\n\n
URL:http://www.synchro.org.au/event/advanced-coaching-clinic/
LOCATION:VIC
END:VEVENT
END:VCALENDAR